BEGIN:VCALENDAR
VERSION:2.0
PRODID:-//Soul Sisters - ECPv6.15.20//NONSGML v1.0//EN
CALSCALE:GREGORIAN
METHOD:PUBLISH
X-WR-CALNAME:Soul Sisters
X-ORIGINAL-URL:https://www.soulsisters.at
X-WR-CALDESC:Veranstaltungen für Soul Sisters
REFRESH-INTERVAL;VALUE=DURATION:PT1H
X-Robots-Tag:noindex
X-PUBLISHED-TTL:PT1H
BEGIN:VTIMEZONE
TZID:Europe/Berlin
BEGIN:DAYLIGHT
TZOFFSETFROM:+0100
TZOFFSETTO:+0200
TZNAME:CEST
DTSTART:20250330T010000
END:DAYLIGHT
BEGIN:STANDARD
TZOFFSETFROM:+0200
TZOFFSETTO:+0100
TZNAME:CET
DTSTART:20251026T010000
END:STANDARD
BEGIN:DAYLIGHT
TZOFFSETFROM:+0100
TZOFFSETTO:+0200
TZNAME:CEST
DTSTART:20260329T010000
END:DAYLIGHT
BEGIN:STANDARD
TZOFFSETFROM:+0200
TZOFFSETTO:+0100
TZNAME:CET
DTSTART:20261025T010000
END:STANDARD
BEGIN:DAYLIGHT
TZOFFSETFROM:+0100
TZOFFSETTO:+0200
TZNAME:CEST
DTSTART:20270328T010000
END:DAYLIGHT
BEGIN:STANDARD
TZOFFSETFROM:+0200
TZOFFSETTO:+0100
TZNAME:CET
DTSTART:20271031T010000
END:STANDARD
END:VTIMEZONE
BEGIN:VEVENT
DTSTART;TZID=Europe/Berlin:20260428T180000
DTEND;TZID=Europe/Berlin:20260428T203000
DTSTAMP:20260420T120417
CREATED:20251124T225109Z
LAST-MODIFIED:20260120T112935Z
UID:10000063-1777399200-1777408200@www.soulsisters.at
SUMMARY:Soul Café mit anschließendem Power-Talk: "Should I stay or should I go"
DESCRIPTION:Soul Café mit anschließendem Power-Talk\nBei Kaffee und guter Stimmung nehmen wir uns Zeit für echten Austausch und lassen uns von einem Power-Talk mit frischen Impulsen für Kopf und Herz inspirieren. \nPower-Talk: „Should I stay or should I go“\n\nIn der Beziehung bleiben oder gehen?\nManche Entscheidungen sind schwer – besonders\, wenn Herz und Verstand unterschiedliche Wege gehen. \nDieses Event bietet Unterstützung in einer herausfordernden Zeit. Zwei erfahrene Expertinnen – eine Anwältin für Familienrecht und eine Coachin mit Schwerpunkt Trennungsbegleitung – geben Orientierung\, Wissen und einfühlsame Impulse.\nEs geht um rechtliche Grundlagen\, den Umgang mit emotionalen Belastungen und praktische Fragen rund um eine mögliche Trennung.\nIn einem geschützten Rahmen entsteht Raum für Austausch\, Verständnis und neue Klarheit – für den nächsten Schritt\, ganz im eigenen Tempo. \nAblauf der Veranstaltung:\n18:00 Soul Café – zum Kennenlernen und Vernetzen\n19:00 Power-Talk\n20:30 Ende der Veranstaltung \n\nInformation zur Vortragenden:\nMag. Sybille-Maria Lindeis\nAls erfahrene Anwältin im Familienrecht begleite ich dich durch die rechtlichen Aspekte einer Trennung. Ich unterstütze dich dabei\, deine Rechte zu verstehen und informierte Entscheidungen zu treffen.\nwww.lindeis.at \nSabine Buiten\nAls psychosoziale Beraterin und Coachin mit Fokus auf Trennungsbegleitung helfe ich dir\, die emotionalen Herausforderungen einer Trennung zu bewältigen. Gemeinsam finden wir Klarheit und stärken dein Selbstvertrauen für den nächsten Schritt.\nwww.sabinebuiten.com
URL:https://www.soulsisters.at/veranstaltung/soul-cafe-mit-anschliessendem-power-talk-should-i-stay-or-should-i-go/
LOCATION:Soul Sisters – Zentrum für Frauen ab der Lebensmitte\, Goldeggasse 2/11A\, Wien\, Wien\, 1040\, Austria
CATEGORIES:Soul Café
ATTACH;FMTTYPE=image/png:https://www.soulsisters.at/wp-content/uploads/2025/11/Sabine-und-Sybille.png
END:VEVENT
BEGIN:VEVENT
DTSTART;TZID=Europe/Berlin:20260519T180000
DTEND;TZID=Europe/Berlin:20260519T203000
DTSTAMP:20260420T120417
CREATED:20260324T155502Z
LAST-MODIFIED:20260417T135636Z
UID:10000067-1779213600-1779222600@www.soulsisters.at
SUMMARY:Soul Café mit anschließendem Power-Talk: "Mit Ernährung kraftvoll durch die Wechseljahre"
DESCRIPTION:Soul Café mit anschließendem Power-Talk\nBei Kaffee und guter Stimmung nehmen wir uns Zeit für echten Austausch und lassen uns von einem Power-Talk mit frischen Impulsen für Kopf und Herz inspirieren. \nPower-Talk: „Mit Ernährung kraftvoll durch die Wechseljahre“\nDie Wechseljahre sind weit mehr als nur hormonelle Veränderungen oder körperliche Beschwerden – sie markieren den Beginn einer neuen Lebensphase. \nIn diesem Power-Talk erfährst du\, wie sich die Hormonbalance bereits ab Mitte bis Ende Dreißig verändert und welche Auswirkungen dies auf das Gewicht haben kann. Der inhaltliche Schwerpunkt des Abends liegt auf der Ernährung und spannt dabei einen umfassenden\, praxisnahen Bogen: \n\nWarum es trotz unveränderter Ernährung häufig zu Gewichtszunahme kommt – und welche Strategien wirksam gegensteuern können.\nWas die Abnehmspritze bewirken kann und was im Körper dabei passiert.\nWelche Nährstoffe in den Wechseljahren besonders wichtig sind.\nWelche Lebensmittel den Körper optimal versorgen und die hormonelle Balance unterstützen.\nWelche Möglichkeiten – aber auch Grenzen – die Ernährung in dieser Phase bietet.\n\nIm Anschluss ist Zeit für deine Fragen und es besteht die Möglichkeit\, das Buch „Wechselhaft“ mit persönlicher Widmung direkt bei Frau Scholler zu kaufen. \n  \nAblauf der Veranstaltung:\n18:00 Soul Café – zum Kennenlernen und Vernetzen\n19:00 Power-Talk\n20:30 Ende der Veranstaltung \n\nInformation zur Vortragenden:\nRoswitha Scholler\nDiätologin \nWie viele Frauen wusste Roswitha Scholler lange sehr wenig über die Wechseljahre und erkannte eigene Symptome zunächst nicht als solche – eine Erfahrung\, die sie auch aus der Arbeit mit ihren Klientinnen kennt. \nDurch eine vertiefende Fortbildung entwickelte sie ein starkes Interesse an diesem Thema\, setzte sich intensiv damit auseinander und verfasste in weiterer Folge das Buch „Wechselhaft“. Neben ihrem Schwerpunkt rund um die Wechseljahre begleitet sie Menschen bei Gewichtsthemen\, erhöhten Cholesterin- und Blutzuckerwerten\, im Rahmen der „Abnehmspritze“ sowie bei Heißhunger und emotionalem Essen. In ihrer Arbeit verbindet sie fundiertes Ernährungswissen mit einem alltagstauglichen\, entspannten Zugang zum Essen. \nwww.genuss-essen.at
URL:https://www.soulsisters.at/veranstaltung/soul-cafe-mit-anschliessendem-power-talk-mit-ernaehrung-kraftvoll-durch-die-wechseljahre/
LOCATION:Soul Sisters – Zentrum für Frauen ab der Lebensmitte\, Goldeggasse 2/11A\, Wien\, Wien\, 1040\, Austria
CATEGORIES:Soul Café
ATTACH;FMTTYPE=image/png:https://www.soulsisters.at/wp-content/uploads/2026/04/5_26-Roswitha-Scholler.png
END:VEVENT
END:VCALENDAR